Package: EpiTxDb.Hs.hg38 Version: 0.99.7 Command: /home/biocbuild/bbs-3.22-bioc/R/bin/R CMD build --keep-empty-dirs --no-resave-data EpiTxDb.Hs.hg38 StartedAt: 2025-09-24 05:56:20 -0400 (Wed, 24 Sep 2025) EndedAt: 2025-09-24 05:57:31 -0400 (Wed, 24 Sep 2025) EllapsedTime: 71.2 seconds RetCode: 0 Status: OK PackageFile: EpiTxDb.Hs.hg38_0.99.7.tar.gz PackageFileSize: 316.9 KiB