Package: CENTREannotation Version: 0.99.1 Command: /home/biocbuild/bbs-3.23-bioc/R/bin/R CMD INSTALL CENTREannotation StartedAt: 2025-11-26 06:00:21 -0500 (Wed, 26 Nov 2025) EndedAt: 2025-11-26 06:00:35 -0500 (Wed, 26 Nov 2025) EllapsedTime: 14.4 seconds RetCode: 0 Status: OK