Package: CENTREannotation Version: 0.99.1 Command: /home/biocbuild/bbs-3.23-bioc/R/bin/R CMD build --keep-empty-dirs --no-resave-data CENTREannotation StartedAt: 2025-11-26 06:01:31 -0500 (Wed, 26 Nov 2025) EndedAt: 2025-11-26 06:03:21 -0500 (Wed, 26 Nov 2025) EllapsedTime: 110.0 seconds RetCode: 0 Status: OK PackageFile: CENTREannotation_0.99.1.tar.gz PackageFileSize: 221.7 KiB