Package: AHLRBaseDbs Version: 1.8.0 Command: /home/biocbuild/bbs-3.22-bioc/R/bin/R CMD INSTALL AHLRBaseDbs StartedAt: 2025-10-01 05:55:21 -0400 (Wed, 01 Oct 2025) EndedAt: 2025-10-01 05:55:22 -0400 (Wed, 01 Oct 2025) EllapsedTime: 1.4 seconds RetCode: 0 Status: OK