Package: scviR Version: 1.11.0 Command: /home/biocbuild/bbs-3.23-bioc-gpu/R/bin/R CMD INSTALL scviR StartedAt: 2025-11-26 10:45:31 -0500 (Wed, 26 Nov 2025) EndedAt: 2025-11-26 10:46:27 -0500 (Wed, 26 Nov 2025) EllapsedTime: 56.4 seconds RetCode: 0 Status: OK