Package: scviR Version: 1.11.0 Command: /home/biocbuild/bbs-3.23-bioc-gpu/R/bin/R CMD build --keep-empty-dirs --no-resave-data scviR StartedAt: 2025-11-26 10:58:15 -0500 (Wed, 26 Nov 2025) EndedAt: 2025-11-26 11:00:59 -0500 (Wed, 26 Nov 2025) EllapsedTime: 164.0 seconds RetCode: 0 Status: OK PackageFile: scviR_1.11.0.tar.gz PackageFileSize: 3.869 MiB