Package: orthos Version: 1.9.0 Command: /home/biocbuild/bbs-3.23-bioc-gpu/R/bin/R CMD build --keep-empty-dirs --no-resave-data orthos StartedAt: 2025-11-27 10:49:46 -0500 (Thu, 27 Nov 2025) EndedAt: 2025-11-27 10:52:21 -0500 (Thu, 27 Nov 2025) EllapsedTime: 155.0 seconds RetCode: 0 Status: OK PackageFile: orthos_1.9.0.tar.gz PackageFileSize: 2.871 MiB