Package: xcms Version: 4.9.0 Command: /home/biocbuild/bbs-3.23-bioc/R/bin/R CMD INSTALL xcms StartedAt: 2025-11-07 15:44:43 -0500 (Fri, 07 Nov 2025) EndedAt: 2025-11-07 15:46:22 -0500 (Fri, 07 Nov 2025) EllapsedTime: 99.0 seconds RetCode: 0 Status: OK