Package: xcms Version: 4.9.0 Command: /home/biocbuild/bbs-3.23-bioc/R/bin/R CMD build --keep-empty-dirs --no-resave-data xcms StartedAt: 2025-11-07 20:42:40 -0500 (Fri, 07 Nov 2025) EndedAt: 2025-11-07 20:47:13 -0500 (Fri, 07 Nov 2025) EllapsedTime: 273.1 seconds RetCode: 0 Status: OK PackageFile: xcms_4.9.0.tar.gz PackageFileSize: 9.136 MiB