Package: xcms Version: 4.7.2 Command: /Library/Frameworks/R.framework/Resources/bin/R CMD INSTALL xcms StartedAt: 2025-10-02 15:38:53 -0400 (Thu, 02 Oct 2025) EndedAt: 2025-10-02 15:41:13 -0400 (Thu, 02 Oct 2025) EllapsedTime: 140.0 seconds RetCode: 0 Status: OK