Package: xcms Version: 4.7.2 Command: /Library/Frameworks/R.framework/Resources/bin/R CMD build --keep-empty-dirs --no-resave-data xcms StartedAt: 2025-10-01 19:19:30 -0400 (Wed, 01 Oct 2025) EndedAt: 2025-10-01 19:24:16 -0400 (Wed, 01 Oct 2025) EllapsedTime: 285.4 seconds RetCode: 0 Status: OK PackageFile: xcms_4.7.2.tar.gz PackageFileSize: 8.882 MiB