Package: xcms Version: 4.7.2 Command: rm -rf xcms.buildbin-libdir && mkdir xcms.buildbin-libdir && /Users/biocbuild/BBS/utils/build-universal.sh xcms_4.7.2.tar.gz /Library/Frameworks/R.framework/Resources/bin/R xcms.buildbin-libdir StartedAt: 2025-10-02 02:21:35 -0400 (Thu, 02 Oct 2025) EndedAt: 2025-10-02 02:23:11 -0400 (Thu, 02 Oct 2025) EllapsedTime: 96.5 seconds RetCode: 0 Status: OK PackageFile: xcms_4.7.2.tgz PackageFileSize: 11.82 MiB