Package: xcms Version: 4.7.2 Command: /Library/Frameworks/R.framework/Resources/bin/R CMD INSTALL xcms StartedAt: 2025-09-28 15:25:03 -0400 (Sun, 28 Sep 2025) EndedAt: 2025-09-28 15:25:40 -0400 (Sun, 28 Sep 2025) EllapsedTime: 36.9 seconds RetCode: 0 Status: OK