############################################################################## ############################################################################## ### ### Running command: ### ### /Library/Frameworks/R.framework/Resources/bin/R CMD INSTALL xcms ### ############################################################################## ############################################################################## * installing to library ‘/Library/Frameworks/R.framework/Versions/4.6-arm64/Resources/library’ ERROR: dependencies ‘MSnbase’, ‘mzR’ are not available for package ‘xcms’ Perhaps try a variation of: install.packages(c('MSnbase', 'mzR')) * removing ‘/Library/Frameworks/R.framework/Versions/4.6-arm64/Resources/library/xcms’