Package: xcms Version: 4.7.3 Maintainer: Steffen Neumann MaintainerEmail: sneumann at ipb-halle.de git_url: https://git.bioconductor.org/packages/xcms git_branch: devel git_last_commit: e2f76c85 git_last_commit_date: 2025-10-13 02:22:07 -0400 (Mon, 13 Oct 2025)