Package: xCell2 Version: 1.1.0 Command: /home/biocbuild/bbs-3.22-bioc/R/bin/R CMD INSTALL xCell2 StartedAt: 2025-10-06 15:30:02 -0400 (Mon, 06 Oct 2025) EndedAt: 2025-10-06 15:30:40 -0400 (Mon, 06 Oct 2025) EllapsedTime: 37.8 seconds RetCode: 0 Status: OK