Package: xCell2 Version: 1.1.0 Command: /home/biocbuild/bbs-3.22-bioc/R/bin/R CMD build --keep-empty-dirs --no-resave-data --md5 xCell2 StartedAt: 2025-10-06 20:45:51 -0400 (Mon, 06 Oct 2025) EndedAt: 2025-10-06 20:48:44 -0400 (Mon, 06 Oct 2025) EllapsedTime: 173.3 seconds RetCode: 0 Status: OK PackageFile: xCell2_1.1.0.tar.gz PackageFileSize: 3.107 MiB