Package: wiggleplotr Version: 1.35.0 Command: /home/biocbuild/bbs-3.23-bioc/R/bin/R CMD INSTALL wiggleplotr StartedAt: 2025-11-07 15:27:35 -0500 (Fri, 07 Nov 2025) EndedAt: 2025-11-07 15:27:40 -0500 (Fri, 07 Nov 2025) EllapsedTime: 5.2 seconds RetCode: 0 Status: OK