Package: wiggleplotr Version: 1.35.0 Command: /home/biocbuild/bbs-3.23-bioc/R/bin/R CMD build --keep-empty-dirs --no-resave-data wiggleplotr StartedAt: 2025-11-07 20:42:00 -0500 (Fri, 07 Nov 2025) EndedAt: 2025-11-07 20:42:35 -0500 (Fri, 07 Nov 2025) EllapsedTime: 35.0 seconds RetCode: 0 Status: OK PackageFile: wiggleplotr_1.35.0.tar.gz PackageFileSize: 334.6 KiB