Package: widgetTools Version: 1.87.0 Command: /Library/Frameworks/R.framework/Resources/bin/R CMD INSTALL widgetTools StartedAt: 2025-10-22 15:02:59 -0400 (Wed, 22 Oct 2025) EndedAt: 2025-10-22 15:03:07 -0400 (Wed, 22 Oct 2025) EllapsedTime: 8.3 seconds RetCode: 0 Status: OK