Package: widgetTools Version: 1.87.0 Command: /Library/Frameworks/R.framework/Resources/bin/R CMD build --keep-empty-dirs --no-resave-data widgetTools StartedAt: 2025-10-22 18:09:43 -0400 (Wed, 22 Oct 2025) EndedAt: 2025-10-22 18:09:48 -0400 (Wed, 22 Oct 2025) EllapsedTime: 5.1 seconds RetCode: 0 Status: OK PackageFile: widgetTools_1.87.0.tar.gz PackageFileSize: 227.6 KiB