Package: widgetTools Version: 1.87.0 Command: rm -rf widgetTools.buildbin-libdir && mkdir widgetTools.buildbin-libdir && /Users/biocbuild/BBS/utils/build-universal.sh widgetTools_1.87.0.tar.gz /Library/Frameworks/R.framework/Resources/bin/R widgetTools.buildbin-libdir StartedAt: 2025-10-24 23:24:10 -0400 (Fri, 24 Oct 2025) EndedAt: 2025-10-24 23:24:13 -0400 (Fri, 24 Oct 2025) EllapsedTime: 3.1 seconds RetCode: 0 Status: OK PackageFile: widgetTools_1.87.0.tgz PackageFileSize: 450.3 KiB