Package: weitrix Version: 1.21.0 Command: /home/biocbuild/bbs-3.22-bioc/R/bin/R CMD INSTALL weitrix StartedAt: 2025-10-01 16:06:34 -0400 (Wed, 01 Oct 2025) EndedAt: 2025-10-01 16:07:17 -0400 (Wed, 01 Oct 2025) EllapsedTime: 42.6 seconds RetCode: 0 Status: OK