Package: weitrix Version: 1.21.0 Command: /home/biocbuild/bbs-3.22-bioc/R/bin/R CMD build --keep-empty-dirs --no-resave-data --md5 weitrix StartedAt: 2025-10-01 21:07:36 -0400 (Wed, 01 Oct 2025) EndedAt: 2025-10-01 21:16:44 -0400 (Wed, 01 Oct 2025) EllapsedTime: 547.9 seconds RetCode: 0 Status: OK PackageFile: weitrix_1.21.0.tar.gz PackageFileSize: 9.487 MiB