Package: webbioc Version: 1.81.0 Command: /home/biocbuild/bbs-3.22-bioc/R/bin/R CMD INSTALL webbioc StartedAt: 2025-10-10 15:56:32 -0400 (Fri, 10 Oct 2025) EndedAt: 2025-10-10 15:56:54 -0400 (Fri, 10 Oct 2025) EllapsedTime: 21.3 seconds RetCode: 0 Status: OK