Package: webbioc Version: 1.83.0 Command: /home/biocbuild/bbs-3.23-bioc/R/bin/R CMD build --keep-empty-dirs --no-resave-data webbioc StartedAt: 2025-11-07 20:41:49 -0500 (Fri, 07 Nov 2025) EndedAt: 2025-11-07 20:42:14 -0500 (Fri, 07 Nov 2025) EllapsedTime: 25.0 seconds RetCode: 0 Status: OK PackageFile: webbioc_1.83.0.tar.gz PackageFileSize: 311.2 KiB