Package: webbioc Version: 1.81.0 Command: /Library/Frameworks/R.framework/Resources/bin/R CMD INSTALL webbioc StartedAt: 2025-10-10 15:44:41 -0400 (Fri, 10 Oct 2025) EndedAt: 2025-10-10 15:45:15 -0400 (Fri, 10 Oct 2025) EllapsedTime: 34.5 seconds RetCode: 0 Status: OK