Package: webbioc Version: 1.81.0 Command: /Library/Frameworks/R.framework/Resources/bin/R CMD build --keep-empty-dirs --no-resave-data webbioc StartedAt: 2025-10-10 19:42:37 -0400 (Fri, 10 Oct 2025) EndedAt: 2025-10-10 19:43:16 -0400 (Fri, 10 Oct 2025) EllapsedTime: 38.9 seconds RetCode: 0 Status: OK PackageFile: webbioc_1.81.0.tar.gz PackageFileSize: 310.4 KiB