Package: webbioc Version: 1.81.0 Command: rm -rf webbioc.buildbin-libdir && mkdir webbioc.buildbin-libdir && /Users/biocbuild/BBS/utils/build-universal.sh webbioc_1.81.0.tar.gz /Library/Frameworks/R.framework/Resources/bin/R webbioc.buildbin-libdir StartedAt: 2025-10-11 03:00:25 -0400 (Sat, 11 Oct 2025) EndedAt: 2025-10-11 03:00:56 -0400 (Sat, 11 Oct 2025) EllapsedTime: 31.1 seconds RetCode: 0 Status: OK PackageFile: webbioc_1.81.0.tgz PackageFileSize: 310.1 KiB