Package: webbioc Version: 1.81.0 Command: /Library/Frameworks/R.framework/Resources/bin/R CMD INSTALL webbioc StartedAt: 2025-10-09 15:23:53 -0400 (Thu, 09 Oct 2025) EndedAt: 2025-10-09 15:24:02 -0400 (Thu, 09 Oct 2025) EllapsedTime: 8.7 seconds RetCode: 0 Status: OK