Package: webbioc Version: 1.81.0 Command: /Library/Frameworks/R.framework/Resources/bin/R CMD build --keep-empty-dirs --no-resave-data webbioc StartedAt: 2025-10-09 18:03:07 -0400 (Thu, 09 Oct 2025) EndedAt: 2025-10-09 18:03:20 -0400 (Thu, 09 Oct 2025) EllapsedTime: 13.2 seconds RetCode: 0 Status: OK PackageFile: webbioc_1.81.0.tar.gz PackageFileSize: 311.4 KiB