Package: weaver Version: 1.75.0 Command: /home/biocbuild/bbs-3.22-bioc/R/bin/R CMD INSTALL weaver StartedAt: 2025-10-05 15:06:26 -0400 (Sun, 05 Oct 2025) EndedAt: 2025-10-05 15:07:03 -0400 (Sun, 05 Oct 2025) EllapsedTime: 37.0 seconds RetCode: 0 Status: OK