Package: vsclust Version: 1.11.2 Command: /home/biocbuild/bbs-3.22-bioc/R/bin/R CMD INSTALL vsclust StartedAt: 2025-10-22 15:47:42 -0400 (Wed, 22 Oct 2025) EndedAt: 2025-10-22 15:48:26 -0400 (Wed, 22 Oct 2025) EllapsedTime: 43.5 seconds RetCode: 0 Status: OK