Package: vsclust Version: 1.11.2 Command: /home/biocbuild/bbs-3.22-bioc/R/bin/R CMD build --keep-empty-dirs --no-resave-data --md5 vsclust StartedAt: 2025-10-22 20:45:34 -0400 (Wed, 22 Oct 2025) EndedAt: 2025-10-22 20:48:05 -0400 (Wed, 22 Oct 2025) EllapsedTime: 151.2 seconds RetCode: 0 Status: OK PackageFile: vsclust_1.11.2.tar.gz PackageFileSize: 3.654 MiB