Package: variancePartition Version: 1.41.0 Command: /home/biocbuild/bbs-3.23-bioc/R/bin/R CMD INSTALL variancePartition StartedAt: 2025-11-06 15:11:16 -0500 (Thu, 06 Nov 2025) EndedAt: 2025-11-06 15:11:36 -0500 (Thu, 06 Nov 2025) EllapsedTime: 20.0 seconds RetCode: 0 Status: OK