Package: variancePartition Version: 1.41.0 Command: /home/biocbuild/bbs-3.23-bioc/R/bin/R CMD build --keep-empty-dirs --no-resave-data variancePartition StartedAt: 2025-11-06 20:33:09 -0500 (Thu, 06 Nov 2025) EndedAt: 2025-11-06 20:44:14 -0500 (Thu, 06 Nov 2025) EllapsedTime: 665.0 seconds RetCode: 0 Status: OK PackageFile: variancePartition_1.41.0.tar.gz PackageFileSize: 4.722 MiB