Package: updateObject Version: 1.15.0 Command: /home/biocbuild/bbs-3.23-bioc/R/bin/R CMD build --keep-empty-dirs --no-resave-data updateObject StartedAt: 2025-11-07 20:35:36 -0500 (Fri, 07 Nov 2025) EndedAt: 2025-11-07 20:35:56 -0500 (Fri, 07 Nov 2025) EllapsedTime: 20.0 seconds RetCode: 0 Status: OK PackageFile: updateObject_1.15.0.tar.gz PackageFileSize: 1.289 MiB