Package: updateObject Version: 1.13.0 Command: /Library/Frameworks/R.framework/Resources/bin/R CMD INSTALL updateObject StartedAt: 2025-10-16 15:41:57 -0400 (Thu, 16 Oct 2025) EndedAt: 2025-10-16 15:42:12 -0400 (Thu, 16 Oct 2025) EllapsedTime: 14.9 seconds RetCode: 0 Status: OK