Package: updateObject Version: 1.13.0 Command: /Library/Frameworks/R.framework/Resources/bin/R CMD build --keep-empty-dirs --no-resave-data updateObject StartedAt: 2025-10-16 20:17:46 -0400 (Thu, 16 Oct 2025) EndedAt: 2025-10-16 20:18:13 -0400 (Thu, 16 Oct 2025) EllapsedTime: 27.4 seconds RetCode: 0 Status: OK PackageFile: updateObject_1.13.0.tar.gz PackageFileSize: 1.289 MiB