Package: updateObject Version: 1.13.0 Command: rm -rf updateObject.buildbin-libdir && mkdir updateObject.buildbin-libdir && /Users/biocbuild/BBS/utils/build-universal.sh updateObject_1.13.0.tar.gz /Library/Frameworks/R.framework/Resources/bin/R updateObject.buildbin-libdir StartedAt: 2025-10-17 04:20:51 -0400 (Fri, 17 Oct 2025) EndedAt: 2025-10-17 04:21:01 -0400 (Fri, 17 Oct 2025) EllapsedTime: 9.3 seconds RetCode: 0 Status: OK PackageFile: updateObject_1.13.0.tgz PackageFileSize: 1.343 MiB