Package: updateObject Version: 1.13.0 Command: /Library/Frameworks/R.framework/Resources/bin/R CMD INSTALL updateObject StartedAt: 2025-10-05 15:07:21 -0400 (Sun, 05 Oct 2025) EndedAt: 2025-10-05 15:07:23 -0400 (Sun, 05 Oct 2025) EllapsedTime: 2.4 seconds RetCode: 0 Status: OK