Package: updateObject Version: 1.13.0 Command: /Library/Frameworks/R.framework/Resources/bin/R CMD build --keep-empty-dirs --no-resave-data updateObject StartedAt: 2025-10-05 18:05:01 -0400 (Sun, 05 Oct 2025) EndedAt: 2025-10-05 18:05:12 -0400 (Sun, 05 Oct 2025) EllapsedTime: 10.1 seconds RetCode: 0 Status: OK PackageFile: updateObject_1.13.0.tar.gz PackageFileSize: 1.289 MiB