Package: uncoverappLib Version: 1.19.0 Command: /home/biocbuild/bbs-3.22-bioc/R/bin/R CMD build --keep-empty-dirs --no-resave-data --md5 uncoverappLib StartedAt: 2025-10-03 20:37:08 -0400 (Fri, 03 Oct 2025) EndedAt: 2025-10-03 20:38:24 -0400 (Fri, 03 Oct 2025) EllapsedTime: 76.1 seconds RetCode: 0 Status: OK PackageFile: uncoverappLib_1.19.0.tar.gz PackageFileSize: 3.432 MiB