Package: treekoR Version: 1.19.0 Command: /Library/Frameworks/R.framework/Resources/bin/R CMD INSTALL treekoR StartedAt: 2025-11-21 15:29:10 -0500 (Fri, 21 Nov 2025) EndedAt: 2025-11-21 15:30:12 -0500 (Fri, 21 Nov 2025) EllapsedTime: 62.3 seconds RetCode: 0 Status: OK