Package: treekoR Version: 1.19.0 Command: rm -rf treekoR.buildbin-libdir && mkdir treekoR.buildbin-libdir && /Users/biocbuild/BBS/utils/build-universal.sh treekoR_1.19.0.tar.gz /Library/Frameworks/R.framework/Resources/bin/R treekoR.buildbin-libdir StartedAt: 2025-11-22 02:02:52 -0500 (Sat, 22 Nov 2025) EndedAt: 2025-11-22 02:03:44 -0500 (Sat, 22 Nov 2025) EllapsedTime: 52.1 seconds RetCode: 0 Status: OK PackageFile: treekoR_1.19.0.tgz PackageFileSize: 1.78 MiB