Package: treekoR Version: 1.19.0 Command: /Library/Frameworks/R.framework/Resources/bin/R CMD INSTALL treekoR StartedAt: 2025-11-18 15:25:17 -0500 (Tue, 18 Nov 2025) EndedAt: 2025-11-18 15:25:36 -0500 (Tue, 18 Nov 2025) EllapsedTime: 18.9 seconds RetCode: 0 Status: OK