Package: treekoR Version: 1.19.0 Command: /Library/Frameworks/R.framework/Resources/bin/R CMD build --keep-empty-dirs --no-resave-data treekoR StartedAt: 2025-11-19 18:00:02 -0500 (Wed, 19 Nov 2025) EndedAt: 2025-11-19 18:00:42 -0500 (Wed, 19 Nov 2025) EllapsedTime: 40.5 seconds RetCode: 0 Status: OK PackageFile: treekoR_1.19.0.tar.gz PackageFileSize: 1.707 MiB