Package: treeio Version: 1.33.0 Command: /Library/Frameworks/R.framework/Resources/bin/R CMD INSTALL treeio StartedAt: 2025-09-30 15:11:13 -0400 (Tue, 30 Sep 2025) EndedAt: 2025-09-30 15:11:40 -0400 (Tue, 30 Sep 2025) EllapsedTime: 27.5 seconds RetCode: 0 Status: OK