Package: treeio Version: 1.33.0 Command: rm -rf treeio.buildbin-libdir && mkdir treeio.buildbin-libdir && /Users/biocbuild/BBS/utils/build-universal.sh treeio_1.33.0.tar.gz /Library/Frameworks/R.framework/Resources/bin/R treeio.buildbin-libdir StartedAt: 2025-10-02 02:20:11 -0400 (Thu, 02 Oct 2025) EndedAt: 2025-10-02 02:20:25 -0400 (Thu, 02 Oct 2025) EllapsedTime: 14.0 seconds RetCode: 0 Status: OK PackageFile: treeio_1.33.0.tgz PackageFileSize: 911.3 KiB