Package: treeio Version: 1.33.0 Command: rm -rf treeio.buildbin-libdir && mkdir treeio.buildbin-libdir && /Users/biocbuild/BBS/utils/build-universal.sh treeio_1.33.0.tar.gz /Library/Frameworks/R.framework/Resources/bin/R treeio.buildbin-libdir StartedAt: 2025-09-29 22:55:18 -0400 (Mon, 29 Sep 2025) EndedAt: 2025-09-29 22:55:22 -0400 (Mon, 29 Sep 2025) EllapsedTime: 4.1 seconds RetCode: 0 Status: OK PackageFile: treeio_1.33.0.tgz PackageFileSize: 912.1 KiB